BEGIN:VCALENDAR
VERSION:2.0
PRODID:-//wp-events-plugin.com//7.2.3.1//EN
TZID:Europe/Helsinki
X-WR-TIMEZONE:Europe/Helsinki
BEGIN:VEVENT
UID:0-140@pukaro.fi
DTSTART;TZID=Europe/Helsinki:20251023T180000
DTEND;TZID=Europe/Helsinki:20251023T190000
DTSTAMP:20251013T061709Z
URL:https://www.pukaro.fi/events/syyskokous/
SUMMARY:Syyskokous
DESCRIPTION:Pukaron kyläyhdistys kutsuu kaikki jäsenet eli kyläläiset j
 a vapaa-ajan asukkaat mukaan sääntömääräiseen syyskokoukseen\n\nAika
  ja paikka\n📅 torstaina 23.10. klo 18.00📍 Pukaron Seuratalolla\nKoko
 uksessa käsitellään yhdistyksen sääntöjen määräämät asiat\, kut
 en:\n\n\n 	\ntoimintasuunnitelma ja talousarvio tulevalle vuodelle\n\n 	\n
 hallituksen jäsenten valinta erovuoroisten tilalle\n\n 	\nmuut mahdollise
 t esille tulevat asiat\n\n\nKokous on avoin kaikille yhdistyksen jäsenill
 e ja kyläläisille.\n\nTervetuloa mukaan vaikuttamaan ja kuulemaan yhdist
 yksen tulevista suunnitelmista!
ATTACH;FMTTYPE=image/jpeg:https://www.pukaro.fi/wp-content/uploads/sites/3
 9/2025/10/syyskokous-Pukaron-kylayhdistys.png
CATEGORIES:Ajankohtaista
END:VEVENT
BEGIN:VTIMEZONE
TZID:Europe/Helsinki
X-LIC-LOCATION:Europe/Helsinki
BEGIN:DAYLIGHT
DTSTART:20250330T040000
TZOFFSETFROM:+0200
TZOFFSETTO:+0300
TZNAME:EEST
END:DAYLIGHT
END:VTIMEZONE
END:VCALENDAR