BEGIN:VCALENDAR
VERSION:2.0
PRODID:-//wp-events-plugin.com//7.2.3.1//EN
TZID:Europe/Helsinki
X-WR-TIMEZONE:Europe/Helsinki
BEGIN:VEVENT
UID:0-139@pukaro.fi
DTSTART;TZID=Europe/Helsinki:20251207T150000
DTEND;TZID=Europe/Helsinki:20251207T170000
DTSTAMP:20251013T061656Z
URL:https://www.pukaro.fi/events/laulun-ja-puuron-juhla/
SUMMARY:Laulun ja Puuron Juhla
DESCRIPTION:Tule mukaan kylän yhteiseen sydämelliseen Laulun ja Puuron Ju
 hlaan!\nIllan aikana nautitaan musiikista – niin kauniista esityksistä 
 kuin yhteislauluista\, joissa pääset itsekin virittäytymään joulun tu
 nnelmaan.\nIllan musiikista vastaa paikallinen muusikko Henna Nieminen\, j
 oka esiintyy ja johdattaa meidät yhteislauluun - tuttuja ja rakastettuja 
 joululauluja. Henna tuo juhlaan iloa\, lämpöä ja joulun tunnelmaa niin 
 lauluillaan kuin yhteislaulujen vetäjänä.\nTarjolla on lämmintä riisi
 puuroa\, kahvit ja joulutorttu ja tietenkin perinteiset arpajaiset mukavin
 e palkintoineen.\n🎟 Liput 8 € (alle 7-vuotiaat maksavan aikuisen seur
 assa ilmaiseksi).\n\nTervetuloa viettämään lämminhenkinen ilta laulun\
 , maun ja yhdessäolon merkeissä!\n
ATTACH;FMTTYPE=image/jpeg:https://www.pukaro.fi/wp-content/uploads/sites/3
 9/2025/10/laulun-ja-puuron-juhla-e1760334932753.png
CATEGORIES:Ajankohtaista
LOCATION:Seuratalo\,  Valssimyllyntie 11-13\, Pukaro\, Uusimaa\, 07830\, La
 pinjärvi\, Suomi
X-APPLE-STRUCTURED-LOCATION;VALUE=URI;X-ADDRESS= Valssimyllyntie 11-13\, Pu
 karo\, Uusimaa\, 07830\, Lapinjärvi\, Suomi;X-APPLE-RADIUS=100;X-TITLE=Se
 uratalo:geo:0,0
END:VEVENT
BEGIN:VTIMEZONE
TZID:Europe/Helsinki
X-LIC-LOCATION:Europe/Helsinki
BEGIN:STANDARD
DTSTART:20251026T030000
TZOFFSETFROM:+0300
TZOFFSETTO:+0200
TZNAME:EET
END:STANDARD
END:VTIMEZONE
END:VCALENDAR